Workbook

Sheet 01_法人情報
A1: 項目 | B1: 入力欄
A2: 法人（設置者）名
A3: 法人（設置者）郵便番号
A4: 法人（設置者）所在地
A5: 理事長名
A6: 事務担当者（所属・氏名）
A7: 電話番号
A8: E-mail
A9: 補助対象学校数（自動集計） | B9: =COUNTIF('02_学校情報'!B2:B21,"<>") -> 0
A10: 補助対象学科数（自動集計） | B10: =COUNTIF('03_学科情報'!D2:D101,"<>") -> 0
A11: 学則定員 法人合計（自動集計） | B11: =SUM('03_学科情報'!I2:I101) -> 0
A12: 補助対象人数 法人合計（自動集計） | B12: =SUM('03_学科情報'!K2:K101) -> 0

Sheet 02_学校情報
A1: 学校通番号 | B1: 学校名 | C1: 郵便番号 | D1: 学校所在地 | E1: 区市町村 | F1: 変更有無
A2: 1
A3: 2
A4: 3
A5: 4
A6: 5
A7: 6
A8: 7
A9: 8
A10: 9
A11: 10
A12: 11
A13: 12
... A21: 20

Sheet 03_学科情報
A1: 学科通番号 | B1: 学校通番号 | C1: 学校名 | D1: 補助対象学科名（職業実践専門課程） | E1: 昼夜 | F1: 修業年限 | G1: 認定年度 | H1: 区市町村 | I1: 学則定員数 | J1: 在籍生徒人数（実員） | K1: 補助対象人数（自動）
A2: 1 | C2: =IF(B2="","",IFERROR(VLOOKUP(B2,'02_学校情報'!$A$2:$E$21,2,FALSE),"")) | H2: =IF(B2="","",IFERROR(VLOOKUP(B2,'02_学校情報'!$A$2:$E$21,5,FALSE),"")) | K2: =IF(OR(I2="",J2=""),"",MIN(I2,J2))
A3: 2 | C3: =IF(B3="","",IFERROR(VLOOKUP(B3,'02_学校情報'!$A$2:$E$21,2,FALSE),"")) | H3: =IF(B3="","",IFERROR(VLOOKUP(B3,'02_学校情報'!$A$2:$E$21,5,FALSE),"")) | K3: =IF(OR(I3="",J3=""),"",MIN(I3,J3))
A4: 3 | C4: =IF(B4="","",IFERROR(VLOOKUP(B4,'02_学校情報'!$A$2:$E$21,2,FALSE),"")) | H4: =IF(B4="","",IFERROR(VLOOKUP(B4,'02_学校情報'!$A$2:$E$21,5,FALSE),"")) | K4: =IF(OR(I4="",J4=""),"",MIN(I4,J4))
A5: 4 | C5: =IF(B5="","",IFERROR(VLOOKUP(B5,'02_学校情報'!$A$2:$E$21,2,FALSE),"")) | H5: =IF(B5="","",IFERROR(VLOOKUP(B5,'02_学校情報'!$A$2:$E$21,5,FALSE),"")) | K5: =IF(OR(I5="",J5=""),"",MIN(I5,J5))
A6: 5 | C6: =IF(B6="","",IFERROR(VLOOKUP(B6,'02_学校情報'!$A$2:$E$21,2,FALSE),"")) | H6: =IF(B6="","",IFERROR(VLOOKUP(B6,'02_学校情報'!$A$2:$E$21,5,FALSE),"")) | K6: =IF(OR(I6="",J6=""),"",MIN(I6,J6))
A7: 6 | C7: =IF(B7="","",IFERROR(VLOOKUP(B7,'02_学校情報'!$A$2:$E$21,2,FALSE),"")) | H7: =IF(B7="","",IFERROR(VLOOKUP(B7,'02_学校情報'!$A$2:$E$21,5,FALSE),"")) | K7: =IF(OR(I7="",J7=""),"",MIN(I7,J7))
A8: 7 | C8: =IF(B8="","",IFERROR(VLOOKUP(B8,'02_学校情報'!$A$2:$E$21,2,FALSE),"")) | H8: =IF(B8="","",IFERROR(VLOOKUP(B8,'02_学校情報'!$A$2:$E$21,5,FALSE),"")) | K8: =IF(OR(I8="",J8=""),"",MIN(I8,J8))
A9: 8 | C9: =IF(B9="","",IFERROR(VLOOKUP(B9,'02_学校情報'!$A$2:$E$21,2,FALSE),"")) | H9: =IF(B9="","",IFERROR(VLOOKUP(B9,'02_学校情報'!$A$2:$E$21,5,FALSE),"")) | K9: =IF(OR(I9="",J9=""),"",MIN(I9,J9))
A10: 9 | C10: =IF(B10="","",IFERROR(VLOOKUP(B10,'02_学校情報'!$A$2:$E$21,2,FALSE),"")) | H10: =IF(B10="","",IFERROR(VLOOKUP(B10,'02_学校情報'!$A$2:$E$21,5,FALSE),"")) | K10: =IF(OR(I10="",J10=""),"",MIN(I10,J10))
A11: 10 | C11: =IF(B11="","",IFERROR(VLOOKUP(B11,'02_学校情報'!$A$2:$E$21,2,FALSE),"")) | H11: =IF(B11="","",IFERROR(VLOOKUP(B11,'02_学校情報'!$A$2:$E$21,5,FALSE),"")) | K11: =IF(OR(I11="",J11=""),"",MIN(I11,J11))
A12: 11 | C12: =IF(B12="","",IFERROR(VLOOKUP(B12,'02_学校情報'!$A$2:$E$21,2,FALSE),"")) | H12: =IF(B12="","",IFERROR(VLOOKUP(B12,'02_学校情報'!$A$2:$E$21,5,FALSE),"")) | K12: =IF(OR(I12="",J12=""),"",MIN(I12,J12))
A13: 12 | C13: =IF(B13="","",IFERROR(VLOOKUP(B13,'02_学校情報'!$A$2:$E$21,2,FALSE),"")) | H13: =IF(B13="","",IFERROR(VLOOKUP(B13,'02_学校情報'!$A$2:$E$21,5,FALSE),"")) | K13: =IF(OR(I13="",J13=""),"",MIN(I13,J13))
... A101: 100 | C101: =IF(B101="","",IFERROR(VLOOKUP(B101,'02_学校情報'!$A$2:$E$21,2,FALSE),"")) | H101: =IF(B101="","",IFERROR(VLOOKUP(B101,'02_学校情報'!$A$2:$E$21,5,FALSE),"")) | K101: =IF(OR(I101="",J101=""),"",MIN(I101,J101))

Sheet 04_名称変更（該当校のみ）
A1: 項番 | B1: 対象 | C1: 変更前名称 | D1: 変更後名称 | E1: 学則変更状況 | F1: 届出先（所轄庁）
A2: 1
A3: 2
A4: 3
A5: 4
A6: 5
A7: 6
A8: 7
A9: 8
A10: 9
A11: 10
A12: 11
A13: 12
... A21: 20

Sheet 05_定員内訳（該当学科のみ）
A1: 項番 | B1: 学科通番号 | C1: 学校名 | D1: 学科名 | E1: 修業年限 | F1: 令和５年度 入学定員 | G1: 令和６年度 入学定員 | H1: 令和７年度 入学定員 | I1: 令和８年度 入学定員 | J1: 小計 | K1: 備考 （申請上の定員が本則と合致しない理由等）
A2: 1 | C2: =IF(B2="","",IFERROR(VLOOKUP(B2,'03_学科情報'!$A$2:$F$101,3,FALSE),"")) | D2: =IF(B2="","",IFERROR(VLOOKUP(B2,'03_学科情報'!$A$2:$F$101,4,FALSE),"")) | E2: =IF(B2="","",IFERROR(VLOOKUP(B2,'03_学科情報'!$A$2:$F$101,6,FALSE),"")) | J2: =SUM(F2:I2) -> 0
A3: 2 | C3: =IF(B3="","",IFERROR(VLOOKUP(B3,'03_学科情報'!$A$2:$F$101,3,FALSE),"")) | D3: =IF(B3="","",IFERROR(VLOOKUP(B3,'03_学科情報'!$A$2:$F$101,4,FALSE),"")) | E3: =IF(B3="","",IFERROR(VLOOKUP(B3,'03_学科情報'!$A$2:$F$101,6,FALSE),"")) | J3: =SUM(F3:I3) -> 0
A4: 3 | C4: =IF(B4="","",IFERROR(VLOOKUP(B4,'03_学科情報'!$A$2:$F$101,3,FALSE),"")) | D4: =IF(B4="","",IFERROR(VLOOKUP(B4,'03_学科情報'!$A$2:$F$101,4,FALSE),"")) | E4: =IF(B4="","",IFERROR(VLOOKUP(B4,'03_学科情報'!$A$2:$F$101,6,FALSE),"")) | J4: =SUM(F4:I4) -> 0
A5: 4 | C5: =IF(B5="","",IFERROR(VLOOKUP(B5,'03_学科情報'!$A$2:$F$101,3,FALSE),"")) | D5: =IF(B5="","",IFERROR(VLOOKUP(B5,'03_学科情報'!$A$2:$F$101,4,FALSE),"")) | E5: =IF(B5="","",IFERROR(VLOOKUP(B5,'03_学科情報'!$A$2:$F$101,6,FALSE),"")) | J5: =SUM(F5:I5) -> 0
A6: 5 | C6: =IF(B6="","",IFERROR(VLOOKUP(B6,'03_学科情報'!$A$2:$F$101,3,FALSE),"")) | D6: =IF(B6="","",IFERROR(VLOOKUP(B6,'03_学科情報'!$A$2:$F$101,4,FALSE),"")) | E6: =IF(B6="","",IFERROR(VLOOKUP(B6,'03_学科情報'!$A$2:$F$101,6,FALSE),"")) | J6: =SUM(F6:I6) -> 0
A7: 6 | C7: =IF(B7="","",IFERROR(VLOOKUP(B7,'03_学科情報'!$A$2:$F$101,3,FALSE),"")) | D7: =IF(B7="","",IFERROR(VLOOKUP(B7,'03_学科情報'!$A$2:$F$101,4,FALSE),"")) | E7: =IF(B7="","",IFERROR(VLOOKUP(B7,'03_学科情報'!$A$2:$F$101,6,FALSE),"")) | J7: =SUM(F7:I7) -> 0
A8: 7 | C8: =IF(B8="","",IFERROR(VLOOKUP(B8,'03_学科情報'!$A$2:$F$101,3,FALSE),"")) | D8: =IF(B8="","",IFERROR(VLOOKUP(B8,'03_学科情報'!$A$2:$F$101,4,FALSE),"")) | E8: =IF(B8="","",IFERROR(VLOOKUP(B8,'03_学科情報'!$A$2:$F$101,6,FALSE),"")) | J8: =SUM(F8:I8) -> 0
A9: 8 | C9: =IF(B9="","",IFERROR(VLOOKUP(B9,'03_学科情報'!$A$2:$F$101,3,FALSE),"")) | D9: =IF(B9="","",IFERROR(VLOOKUP(B9,'03_学科情報'!$A$2:$F$101,4,FALSE),"")) | E9: =IF(B9="","",IFERROR(VLOOKUP(B9,'03_学科情報'!$A$2:$F$101,6,FALSE),"")) | J9: =SUM(F9:I9) -> 0
A10: 9 | C10: =IF(B10="","",IFERROR(VLOOKUP(B10,'03_学科情報'!$A$2:$F$101,3,FALSE),"")) | D10: =IF(B10="","",IFERROR(VLOOKUP(B10,'03_学科情報'!$A$2:$F$101,4,FALSE),"")) | E10: =IF(B10="","",IFERROR(VLOOKUP(B10,'03_学科情報'!$A$2:$F$101,6,FALSE),"")) | J10: =SUM(F10:I10) -> 0
A11: 10 | C11: =IF(B11="","",IFERROR(VLOOKUP(B11,'03_学科情報'!$A$2:$F$101,3,FALSE),"")) | D11: =IF(B11="","",IFERROR(VLOOKUP(B11,'03_学科情報'!$A$2:$F$101,4,FALSE),"")) | E11: =IF(B11="","",IFERROR(VLOOKUP(B11,'03_学科情報'!$A$2:$F$101,6,FALSE),"")) | J11: =SUM(F11:I11) -> 0
A12: 11 | C12: =IF(B12="","",IFERROR(VLOOKUP(B12,'03_学科情報'!$A$2:$F$101,3,FALSE),"")) | D12: =IF(B12="","",IFERROR(VLOOKUP(B12,'03_学科情報'!$A$2:$F$101,4,FALSE),"")) | E12: =IF(B12="","",IFERROR(VLOOKUP(B12,'03_学科情報'!$A$2:$F$101,6,FALSE),"")) | J12: =SUM(F12:I12) -> 0
A13: 12 | C13: =IF(B13="","",IFERROR(VLOOKUP(B13,'03_学科情報'!$A$2:$F$101,3,FALSE),"")) | D13: =IF(B13="","",IFERROR(VLOOKUP(B13,'03_学科情報'!$A$2:$F$101,4,FALSE),"")) | E13: =IF(B13="","",IFERROR(VLOOKUP(B13,'03_学科情報'!$A$2:$F$101,6,FALSE),"")) | J13: =SUM(F13:I13) -> 0
... A21: 20 | C21: =IF(B21="","",IFERROR(VLOOKUP(B21,'03_学科情報'!$A$2:$F$101,3,FALSE),"")) | D21: =IF(B21="","",IFERROR(VLOOKUP(B21,'03_学科情報'!$A$2:$F$101,4,FALSE),"")) | E21: =IF(B21="","",IFERROR(VLOOKUP(B21,'03_学科情報'!$A$2:$F$101,6,FALSE),"")) | J21: =SUM(F21:I21) -> 0
A23: ※学則変更等で学年毎に定員が異なる学科がある場合のみ、当該学科について作成してください。

Sheet 06_他補助金等
A1: 項番 | B1: 学校通番号 | C1: 学校名 | D1: 区分 | E1: 補助金・委託契約事業名 | F1: 交付元・契約先行政庁
A2: 1 | C2: =IF(B2="","",IFERROR(VLOOKUP(B2,'02_学校情報'!$A$2:$B$21,2,FALSE),""))
A3: 2 | C3: =IF(B3="","",IFERROR(VLOOKUP(B3,'02_学校情報'!$A$2:$B$21,2,FALSE),""))
A4: 3 | C4: =IF(B4="","",IFERROR(VLOOKUP(B4,'02_学校情報'!$A$2:$B$21,2,FALSE),""))
A5: 4 | C5: =IF(B5="","",IFERROR(VLOOKUP(B5,'02_学校情報'!$A$2:$B$21,2,FALSE),""))
A6: 5 | C6: =IF(B6="","",IFERROR(VLOOKUP(B6,'02_学校情報'!$A$2:$B$21,2,FALSE),""))
A7: 6 | C7: =IF(B7="","",IFERROR(VLOOKUP(B7,'02_学校情報'!$A$2:$B$21,2,FALSE),""))
A8: 7 | C8: =IF(B8="","",IFERROR(VLOOKUP(B8,'02_学校情報'!$A$2:$B$21,2,FALSE),""))
A9: 8 | C9: =IF(B9="","",IFERROR(VLOOKUP(B9,'02_学校情報'!$A$2:$B$21,2,FALSE),""))
A10: 9 | C10: =IF(B10="","",IFERROR(VLOOKUP(B10,'02_学校情報'!$A$2:$B$21,2,FALSE),""))
A11: 10 | C11: =IF(B11="","",IFERROR(VLOOKUP(B11,'02_学校情報'!$A$2:$B$21,2,FALSE),""))
A12: 11 | C12: =IF(B12="","",IFERROR(VLOOKUP(B12,'02_学校情報'!$A$2:$B$21,2,FALSE),""))
A13: 12 | C13: =IF(B13="","",IFERROR(VLOOKUP(B13,'02_学校情報'!$A$2:$B$21,2,FALSE),""))
... A21: 20 | C21: =IF(B21="","",IFERROR(VLOOKUP(B21,'02_学校情報'!$A$2:$B$21,2,FALSE),""))

Sheet 99_選択肢（編集不可）
A1: 対象 | B1: 区分 | C1: 学則変更状況 | D1: 変更有無 | E1: 昼夜
A2: 学校名 | B2: 補助金 | C2: 済 | D2: 無 | E2: 昼間
A3: 学科名 | B3: 委託契約事業 | C3: 未 | D3: 有 | E3: 夜間
