Workbook

Sheet 01_法人情報
A1: 項目 | B1: 入力欄
A2: 法人（設置者）名 | B2: 学校法人都庁学園
A3: 法人（設置者）郵便番号 | B3: 163-8001
A4: 法人（設置者）所在地 | B4: 東京都新宿区西新宿二丁目8番1号
A5: 理事長名 | B5: 都庁 太郎
A6: 事務担当者（所属・氏名） | B6: 法人本部総務課 都庁 花子
A7: 電話番号 | B7: 03-1234-XXXX
A8: E-mail | B8: sample@metro.tokyo.jp
A9: 補助対象学校数（自動集計） | B9: =COUNTIF('02_学校情報'!B2:B21,"<>") -> 2
A10: 補助対象学科数（自動集計） | B10: =COUNTIF('03_学科情報'!D2:D101,"<>") -> 3
A11: 学則定員 法人合計（自動集計） | B11: =SUM('03_学科情報'!I2:I101) -> 265
A12: 補助対象人数 法人合計（自動集計） | B12: =SUM('03_学科情報'!K2:K101) -> 230

Sheet 02_学校情報
A1: 学校通番号 | B1: 学校名 | C1: 郵便番号 | D1: 学校所在地 | E1: 区市町村 | F1: 変更有無
A2: 1 | B2: 都庁ビジネス専門学校 | C2: 160-XXXX | D2: 東京都新宿区○○一丁目1番1号 | E2: 新宿区 | F2: 無
A3: 2 | B3: 都庁情報デザイン専門学校 | C3: 150-XXXX | D3: 東京都渋谷区○○一丁目2番3号 | E3: 渋谷区 | F3: 有
A4: 3
A5: 4
A6: 5
A7: 6
A8: 7
A9: 8
A10: 9
A11: 10
A12: 11
A13: 12
A14: 13
A15: 14
... A21: 20

Sheet 03_学科情報
A1: 学科通番号 | B1: 学校通番号 | C1: 学校名 | D1: 補助対象学科名（職業実践専門課程） | E1: 昼夜 | F1: 修業年限 | G1: 認定年度 | H1: 区市町村 | I1: 学則定員数 | J1: 在籍生徒人数（実員） | K1: 補助対象人数（自動）
A2: 1 | B2: 1 | C2: =IF(B2="","",IFERROR(VLOOKUP(B2,'02_学校情報'!$A$2:$E$21,2,FALSE),"")) -> 都庁ビジネス専門学校 | D2: 国際ビジネス学科 | E2: 昼間 | F2: 2 | G2: 平成３０年度 | H2: =IF(B2="","",IFERROR(VLOOKUP(B2,'02_学校情報'!$A$2:$E$21,5,FALSE),"")) -> 新宿区 | I2: 80 | J2: 72 | K2: =IF(OR(I2="",J2=""),"",MIN(I2,J2)) -> 72
A3: 2 | B3: 1 | C3: =IF(B3="","",IFERROR(VLOOKUP(B3,'02_学校情報'!$A$2:$E$21,2,FALSE),"")) -> 都庁ビジネス専門学校 | D3: 観光サービス学科 | E3: 昼間 | F3: 2 | G3: 令和６年度 | H3: =IF(B3="","",IFERROR(VLOOKUP(B3,'02_学校情報'!$A$2:$E$21,5,FALSE),"")) -> 新宿区 | I3: 60 | J3: 65 | K3: =IF(OR(I3="",J3=""),"",MIN(I3,J3)) -> 60
A4: 3 | B4: 2 | C4: =IF(B4="","",IFERROR(VLOOKUP(B4,'02_学校情報'!$A$2:$E$21,2,FALSE),"")) -> 都庁情報デザイン専門学校 | D4: 情報デザイン学科 | E4: 昼間 | F4: 3 | G4: 令和４年度 | H4: =IF(B4="","",IFERROR(VLOOKUP(B4,'02_学校情報'!$A$2:$E$21,5,FALSE),"")) -> 渋谷区 | I4: 125 | J4: 98 | K4: =IF(OR(I4="",J4=""),"",MIN(I4,J4)) -> 98
A5: 4 | C5: =IF(B5="","",IFERROR(VLOOKUP(B5,'02_学校情報'!$A$2:$E$21,2,FALSE),"")) | H5: =IF(B5="","",IFERROR(VLOOKUP(B5,'02_学校情報'!$A$2:$E$21,5,FALSE),"")) | K5: =IF(OR(I5="",J5=""),"",MIN(I5,J5))
A6: 5 | C6: =IF(B6="","",IFERROR(VLOOKUP(B6,'02_学校情報'!$A$2:$E$21,2,FALSE),"")) | H6: =IF(B6="","",IFERROR(VLOOKUP(B6,'02_学校情報'!$A$2:$E$21,5,FALSE),"")) | K6: =IF(OR(I6="",J6=""),"",MIN(I6,J6))
A7: 6 | C7: =IF(B7="","",IFERROR(VLOOKUP(B7,'02_学校情報'!$A$2:$E$21,2,FALSE),"")) | H7: =IF(B7="","",IFERROR(VLOOKUP(B7,'02_学校情報'!$A$2:$E$21,5,FALSE),"")) | K7: =IF(OR(I7="",J7=""),"",MIN(I7,J7))
A8: 7 | C8: =IF(B8="","",IFERROR(VLOOKUP(B8,'02_学校情報'!$A$2:$E$21,2,FALSE),"")) | H8: =IF(B8="","",IFERROR(VLOOKUP(B8,'02_学校情報'!$A$2:$E$21,5,FALSE),"")) | K8: =IF(OR(I8="",J8=""),"",MIN(I8,J8))
A9: 8 | C9: =IF(B9="","",IFERROR(VLOOKUP(B9,'02_学校情報'!$A$2:$E$21,2,FALSE),"")) | H9: =IF(B9="","",IFERROR(VLOOKUP(B9,'02_学校情報'!$A$2:$E$21,5,FALSE),"")) | K9: =IF(OR(I9="",J9=""),"",MIN(I9,J9))
A10: 9 | C10: =IF(B10="","",IFERROR(VLOOKUP(B10,'02_学校情報'!$A$2:$E$21,2,FALSE),"")) | H10: =IF(B10="","",IFERROR(VLOOKUP(B10,'02_学校情報'!$A$2:$E$21,5,FALSE),"")) | K10: =IF(OR(I10="",J10=""),"",MIN(I10,J10))
A11: 10 | C11: =IF(B11="","",IFERROR(VLOOKUP(B11,'02_学校情報'!$A$2:$E$21,2,FALSE),"")) | H11: =IF(B11="","",IFERROR(VLOOKUP(B11,'02_学校情報'!$A$2:$E$21,5,FALSE),"")) | K11: =IF(OR(I11="",J11=""),"",MIN(I11,J11))
A12: 11 | C12: =IF(B12="","",IFERROR(VLOOKUP(B12,'02_学校情報'!$A$2:$E$21,2,FALSE),"")) | H12: =IF(B12="","",IFERROR(VLOOKUP(B12,'02_学校情報'!$A$2:$E$21,5,FALSE),"")) | K12: =IF(OR(I12="",J12=""),"",MIN(I12,J12))
A13: 12 | C13: =IF(B13="","",IFERROR(VLOOKUP(B13,'02_学校情報'!$A$2:$E$21,2,FALSE),"")) | H13: =IF(B13="","",IFERROR(VLOOKUP(B13,'02_学校情報'!$A$2:$E$21,5,FALSE),"")) | K13: =IF(OR(I13="",J13=""),"",MIN(I13,J13))
A14: 13 | C14: =IF(B14="","",IFERROR(VLOOKUP(B14,'02_学校情報'!$A$2:$E$21,2,FALSE),"")) | H14: =IF(B14="","",IFERROR(VLOOKUP(B14,'02_学校情報'!$A$2:$E$21,5,FALSE),"")) | K14: =IF(OR(I14="",J14=""),"",MIN(I14,J14))
A15: 14 | C15: =IF(B15="","",IFERROR(VLOOKUP(B15,'02_学校情報'!$A$2:$E$21,2,FALSE),"")) | H15: =IF(B15="","",IFERROR(VLOOKUP(B15,'02_学校情報'!$A$2:$E$21,5,FALSE),"")) | K15: =IF(OR(I15="",J15=""),"",MIN(I15,J15))
A16: 15 | C16: =IF(B16="","",IFERROR(VLOOKUP(B16,'02_学校情報'!$A$2:$E$21,2,FALSE),"")) | H16: =IF(B16="","",IFERROR(VLOOKUP(B16,'02_学校情報'!$A$2:$E$21,5,FALSE),"")) | K16: =IF(OR(I16="",J16=""),"",MIN(I16,J16))
... A101: 100 | C101: =IF(B101="","",IFERROR(VLOOKUP(B101,'02_学校情報'!$A$2:$E$21,2,FALSE),"")) | H101: =IF(B101="","",IFERROR(VLOOKUP(B101,'02_学校情報'!$A$2:$E$21,5,FALSE),"")) | K101: =IF(OR(I101="",J101=""),"",MIN(I101,J101))

Sheet 04_名称変更（該当校のみ）
A1: 項番 | B1: 対象 | C1: 変更前名称 | D1: 変更後名称 | E1: 学則変更状況 | F1: 届出先（所轄庁）
A2: 1 | B2: 学校名 | C2: 都庁デザイン専門学校 | D2: 都庁情報デザイン専門学校 | E2: 済 | F2: 渋谷区
A3: 2 | B3: 学科名 | C3: 観光学科（都庁ビジネス専門学校） | D3: 観光サービス学科（都庁ビジネス専門学校） | E3: 済 | F3: 新宿区
A4: 3
A5: 4
A6: 5
A7: 6
A8: 7
A9: 8
A10: 9
A11: 10
A12: 11
A13: 12
A14: 13
A15: 14
... A21: 20

Sheet 05_定員内訳（該当学科のみ）
A1: 項番 | B1: 学科通番号 | C1: 学校名 | D1: 学科（コース）名 | E1: 修業年限 | F1: 令和５年度 入学定員 | G1: 令和６年度 入学定員 | H1: 令和７年度 入学定員 | I1: 令和８年度 入学定員 | J1: 小計 | K1: 備考 （申請上の定員が本則と合致しない理由等）
A2: 1 | B2: 1 | C2: =IF(B2="","",IFERROR(VLOOKUP(B2,'03_学科情報'!$A$2:$F$101,3,FALSE),"")) -> 都庁ビジネス専門学校 | D2: =IF(B2="","",IFERROR(VLOOKUP(B2,'03_学科情報'!$A$2:$F$101,4,FALSE),"")) -> 国際ビジネス学科 | E2: =IF(B2="","",IFERROR(VLOOKUP(B2,'03_学科情報'!$A$2:$F$101,6,FALSE),"")) -> 2 | F2: 0 | G2: 0 | H2: 80 | I2: 0 | J2: =SUM(F2:I2) -> 80 | K2: 令和８年度から募集停止
A3: 2 | B3: 3 | C3: =IF(B3="","",IFERROR(VLOOKUP(B3,'03_学科情報'!$A$2:$F$101,3,FALSE),"")) -> 都庁情報デザイン専門学校 | D3: =IF(B3="","",IFERROR(VLOOKUP(B3,'03_学科情報'!$A$2:$F$101,4,FALSE),"")) -> 情報デザイン学科 | E3: =IF(B3="","",IFERROR(VLOOKUP(B3,'03_学科情報'!$A$2:$F$101,6,FALSE),"")) -> 3 | F3: 0 | G3: 40 | H3: 40 | I3: 45 | J3: =SUM(F3:I3) -> 125 | K3: 令和８年度入学生から入学定員を45人に変更
A4: 3 | C4: =IF(B4="","",IFERROR(VLOOKUP(B4,'03_学科情報'!$A$2:$F$101,3,FALSE),"")) | D4: =IF(B4="","",IFERROR(VLOOKUP(B4,'03_学科情報'!$A$2:$F$101,4,FALSE),"")) | E4: =IF(B4="","",IFERROR(VLOOKUP(B4,'03_学科情報'!$A$2:$F$101,6,FALSE),"")) | J4: =SUM(F4:I4) -> 0
A5: 4 | C5: =IF(B5="","",IFERROR(VLOOKUP(B5,'03_学科情報'!$A$2:$F$101,3,FALSE),"")) | D5: =IF(B5="","",IFERROR(VLOOKUP(B5,'03_学科情報'!$A$2:$F$101,4,FALSE),"")) | E5: =IF(B5="","",IFERROR(VLOOKUP(B5,'03_学科情報'!$A$2:$F$101,6,FALSE),"")) | J5: =SUM(F5:I5) -> 0
A6: 5 | C6: =IF(B6="","",IFERROR(VLOOKUP(B6,'03_学科情報'!$A$2:$F$101,3,FALSE),"")) | D6: =IF(B6="","",IFERROR(VLOOKUP(B6,'03_学科情報'!$A$2:$F$101,4,FALSE),"")) | E6: =IF(B6="","",IFERROR(VLOOKUP(B6,'03_学科情報'!$A$2:$F$101,6,FALSE),"")) | J6: =SUM(F6:I6) -> 0
A7: 6 | C7: =IF(B7="","",IFERROR(VLOOKUP(B7,'03_学科情報'!$A$2:$F$101,3,FALSE),"")) | D7: =IF(B7="","",IFERROR(VLOOKUP(B7,'03_学科情報'!$A$2:$F$101,4,FALSE),"")) | E7: =IF(B7="","",IFERROR(VLOOKUP(B7,'03_学科情報'!$A$2:$F$101,6,FALSE),"")) | J7: =SUM(F7:I7) -> 0
A8: 7 | C8: =IF(B8="","",IFERROR(VLOOKUP(B8,'03_学科情報'!$A$2:$F$101,3,FALSE),"")) | D8: =IF(B8="","",IFERROR(VLOOKUP(B8,'03_学科情報'!$A$2:$F$101,4,FALSE),"")) | E8: =IF(B8="","",IFERROR(VLOOKUP(B8,'03_学科情報'!$A$2:$F$101,6,FALSE),"")) | J8: =SUM(F8:I8) -> 0
A9: 8 | C9: =IF(B9="","",IFERROR(VLOOKUP(B9,'03_学科情報'!$A$2:$F$101,3,FALSE),"")) | D9: =IF(B9="","",IFERROR(VLOOKUP(B9,'03_学科情報'!$A$2:$F$101,4,FALSE),"")) | E9: =IF(B9="","",IFERROR(VLOOKUP(B9,'03_学科情報'!$A$2:$F$101,6,FALSE),"")) | J9: =SUM(F9:I9) -> 0
A10: 9 | C10: =IF(B10="","",IFERROR(VLOOKUP(B10,'03_学科情報'!$A$2:$F$101,3,FALSE),"")) | D10: =IF(B10="","",IFERROR(VLOOKUP(B10,'03_学科情報'!$A$2:$F$101,4,FALSE),"")) | E10: =IF(B10="","",IFERROR(VLOOKUP(B10,'03_学科情報'!$A$2:$F$101,6,FALSE),"")) | J10: =SUM(F10:I10) -> 0
A11: 10 | C11: =IF(B11="","",IFERROR(VLOOKUP(B11,'03_学科情報'!$A$2:$F$101,3,FALSE),"")) | D11: =IF(B11="","",IFERROR(VLOOKUP(B11,'03_学科情報'!$A$2:$F$101,4,FALSE),"")) | E11: =IF(B11="","",IFERROR(VLOOKUP(B11,'03_学科情報'!$A$2:$F$101,6,FALSE),"")) | J11: =SUM(F11:I11) -> 0
A12: 11 | C12: =IF(B12="","",IFERROR(VLOOKUP(B12,'03_学科情報'!$A$2:$F$101,3,FALSE),"")) | D12: =IF(B12="","",IFERROR(VLOOKUP(B12,'03_学科情報'!$A$2:$F$101,4,FALSE),"")) | E12: =IF(B12="","",IFERROR(VLOOKUP(B12,'03_学科情報'!$A$2:$F$101,6,FALSE),"")) | J12: =SUM(F12:I12) -> 0
A13: 12 | C13: =IF(B13="","",IFERROR(VLOOKUP(B13,'03_学科情報'!$A$2:$F$101,3,FALSE),"")) | D13: =IF(B13="","",IFERROR(VLOOKUP(B13,'03_学科情報'!$A$2:$F$101,4,FALSE),"")) | E13: =IF(B13="","",IFERROR(VLOOKUP(B13,'03_学科情報'!$A$2:$F$101,6,FALSE),"")) | J13: =SUM(F13:I13) -> 0
A14: 13 | C14: =IF(B14="","",IFERROR(VLOOKUP(B14,'03_学科情報'!$A$2:$F$101,3,FALSE),"")) | D14: =IF(B14="","",IFERROR(VLOOKUP(B14,'03_学科情報'!$A$2:$F$101,4,FALSE),"")) | E14: =IF(B14="","",IFERROR(VLOOKUP(B14,'03_学科情報'!$A$2:$F$101,6,FALSE),"")) | J14: =SUM(F14:I14) -> 0
A15: 14 | C15: =IF(B15="","",IFERROR(VLOOKUP(B15,'03_学科情報'!$A$2:$F$101,3,FALSE),"")) | D15: =IF(B15="","",IFERROR(VLOOKUP(B15,'03_学科情報'!$A$2:$F$101,4,FALSE),"")) | E15: =IF(B15="","",IFERROR(VLOOKUP(B15,'03_学科情報'!$A$2:$F$101,6,FALSE),"")) | J15: =SUM(F15:I15) -> 0
... A21: 20 | C21: =IF(B21="","",IFERROR(VLOOKUP(B21,'03_学科情報'!$A$2:$F$101,3,FALSE),"")) | D21: =IF(B21="","",IFERROR(VLOOKUP(B21,'03_学科情報'!$A$2:$F$101,4,FALSE),"")) | E21: =IF(B21="","",IFERROR(VLOOKUP(B21,'03_学科情報'!$A$2:$F$101,6,FALSE),"")) | J21: =SUM(F21:I21) -> 0
A23: ※学則変更等で学年毎に定員が異なる学科がある場合のみ、当該学科について作成してください。

Sheet 06_他補助金等
A1: 項番 | B1: 学校通番号 | C1: 学校名 | D1: 区分 | E1: 補助金・委託契約事業名 | F1: 交付元・契約先行政庁
A2: 1 | B2: 1 | C2: =IF(B2="","",IFERROR(VLOOKUP(B2,'02_学校情報'!$A$2:$B$21,2,FALSE),"")) -> 都庁ビジネス専門学校 | D2: 補助金 | E2: ○○整備支援補助金 | F2: 東京都生活文化局
A3: 2 | B3: 2 | C3: =IF(B3="","",IFERROR(VLOOKUP(B3,'02_学校情報'!$A$2:$B$21,2,FALSE),"")) -> 都庁情報デザイン専門学校 | D3: 委託契約事業 | E3: ○○人材育成事業 | F3: 文部科学省
A4: 3 | C4: =IF(B4="","",IFERROR(VLOOKUP(B4,'02_学校情報'!$A$2:$B$21,2,FALSE),""))
A5: 4 | C5: =IF(B5="","",IFERROR(VLOOKUP(B5,'02_学校情報'!$A$2:$B$21,2,FALSE),""))
A6: 5 | C6: =IF(B6="","",IFERROR(VLOOKUP(B6,'02_学校情報'!$A$2:$B$21,2,FALSE),""))
A7: 6 | C7: =IF(B7="","",IFERROR(VLOOKUP(B7,'02_学校情報'!$A$2:$B$21,2,FALSE),""))
A8: 7 | C8: =IF(B8="","",IFERROR(VLOOKUP(B8,'02_学校情報'!$A$2:$B$21,2,FALSE),""))
A9: 8 | C9: =IF(B9="","",IFERROR(VLOOKUP(B9,'02_学校情報'!$A$2:$B$21,2,FALSE),""))
A10: 9 | C10: =IF(B10="","",IFERROR(VLOOKUP(B10,'02_学校情報'!$A$2:$B$21,2,FALSE),""))
A11: 10 | C11: =IF(B11="","",IFERROR(VLOOKUP(B11,'02_学校情報'!$A$2:$B$21,2,FALSE),""))
A12: 11 | C12: =IF(B12="","",IFERROR(VLOOKUP(B12,'02_学校情報'!$A$2:$B$21,2,FALSE),""))
A13: 12 | C13: =IF(B13="","",IFERROR(VLOOKUP(B13,'02_学校情報'!$A$2:$B$21,2,FALSE),""))
A14: 13 | C14: =IF(B14="","",IFERROR(VLOOKUP(B14,'02_学校情報'!$A$2:$B$21,2,FALSE),""))
A15: 14 | C15: =IF(B15="","",IFERROR(VLOOKUP(B15,'02_学校情報'!$A$2:$B$21,2,FALSE),""))
... A21: 20 | C21: =IF(B21="","",IFERROR(VLOOKUP(B21,'02_学校情報'!$A$2:$B$21,2,FALSE),""))
